BEGIN:VCALENDAR
VERSION:2.0
CALSCALE:GREGORIAN
METHOD:PUBLISH
X-WR-TIMEZONE:Australia/Sydney
BEGIN:VTIMEZONE
TZID:Australia/Sydney
BEGIN:STANDARD
TZNAME:AEST
DTSTART:19700101T000000
TZOFFSETFROM:+1100
TZOFFSETTO:+1000
END:STANDARD
END:VTIMEZONE
BEGIN:VEVENT
DTSTART;TZID=Australia/Sydney:20260303
DTEND;TZID=Australia/Sydney:20260303
DTSTAMP:20260420T202607
UID:440
SUMMARY:PE Swimming Training
DESCRIPTION:




The Faction Swimming Carnival will be held in Week 5 on Friday 6th March 2026. All students in Years 3-10 are expected to attend and participate, as well as any Year Two students that are confident to complete 25m of at least two strokes.During Physical Education lessons, I will be taking students down to the pool, in preparation for the carnival. These lessons will occur on the following dates. Please indicate if you are available to help at any of the times below to assist me and help supervise students at the pool:Year 3-6Week 2- Tuesday 10th February, Friday 13th FebruaryWeek 3- Tuesday 17th February, Friday 20th FebruaryWeek 4- Tuesday 24th February, Friday 27th FebruaryWeek 5- Tuesday 3rd March Year 7-10Week 1- Wednesday 4th FebruaryWeek 2- Wednesday 11th February, Friday 13th FebruaryWeek 3- Wednesday 18th February, Friday 20th FebruaryWeek 4- Wednesday 25th February, Friday 27th FebruaryWeek 5- Tuesday 4th MarchStudents will need to be prepared for lessons and remember to pack their bathers, towel, thongs, goggles (if required), sunscreen, water bottle and a hat (please make sure all items are clearly labelled). Please ensure that you contact the school to update medical information. If there are any medical or physical reasons that may impact your child participating in swimming during


SEQUENCE:0
STATUS:CONFIRMED
TRANSP:OPAQUE
END:VEVENT
END:VCALENDAR